BEGIN:VCALENDAR
VERSION:2.0
PRODID:-//ChamberMaster//Event Calendar 2.0//EN
METHOD:PUBLISH
X-PUBLISHED-TTL:P3D
REFRESH-INTERVAL:P3D
CALSCALE:GREGORIAN
BEGIN:VEVENT
DTSTART:20251003T130000Z
DTEND:20251003T173000Z
X-MICROSOFT-CDO-ALLDAYEVENT:FALSE
SUMMARY:2025 QHMA Golf Outing - Sold Out
DESCRIPTION:For nearly five decades\, the Quaboag Hills Chamber of Commerce as been bringing together the region's businesses and helping deliver economic growth for it's members. The Chamber is committed more than ever to creating drivers and opportunities to help you achieve your goals and advance your development.\n\n\n\nAs a non-profit organization that works everyday for your business\, our fundraising events are crucial for the Chamber to continue it's mission. Last year\, the Chamber teed up it's first member golf outing in years with perfect weather & fun for all!\n\n\n\nYou and your employees work hard everyday. And we recognize the importance of taking time to balance everything you do. We hope you will join us for a day of fun\, networking and enjoyment for all with a 9 hole scramble format. \n\n\n\nSchedule:\n\n8am:  Check in begins\n\n9am:  Shotgun start\n\n12pm:  Awards lunch\n\n\n\nTHANK YOU SPONSORS:\n\nBELL & HUDSON INSURANCE AGENCY\, Awards Lunch Sponsor\n\nJ. STOLAR INSURANCE AGENCY\, Awards Lunch Sponsor\n\nNORTH BROOKFIELD SAVINGS BANK\, Awards Lunch Sponsor\n\nSANDERSON MACLEOD\, Awards Lunch Sponsor\n\nARCHITECTURAL INSIGHTS\, Tee Box Sponsor\n\nBEHAVIORAL HEALTH NETWORK\, Tee Box Sponsor\n\nBRETON ESTATES/RB ENTERPRISES\, Tee Box Sponsor\n\nCEDARBOOK VILLAGE AT WARE\, Tee Box Sponsor\n\nHOWE LUMBER\, Tee Box Sponsor\n\nLINTON SEPTIC\, Tee Box Sponsor\n\nMICHAEL'S PARTY RENTALS\, Tee Box Sponsor\n\nMOULTON INSURANCE AGENCY\, Tee Box Sponsor\n\nNOONAN ENERGY\, Tee Box Sponsor\n\nPALMER DENTISTRY & IMPLANTS\, Tee Box Sponsor\n\nQUABBIN WIRE & CABLE\, Tee Box Sponsor
X-ALT-DESC;FMTTYPE=text/html:<p --cyv3zq:="" --gjplxq:="" class="cvGsUA direction-ltr align-start para-style-body" line-height:="" style="color: rgb(33\, 99\, 56)\; font-family: " yacgeet8btw=""><span style="color:#000000\;"><span class="OYPEnA text-decoration-none text-strikethrough-none">For nearly five decades\, the Quaboag Hills Chamber of Commerce as been bringing together the region&rsquo\;s businesses and helping deliver economic growth for it&rsquo\;s members.<span class="OYPEnA text-decoration-none text-strikethrough-none white-space-prewrap"> </span>The Chamber is committed more than ever to creating drivers and opportunities to help you achieve your goals and advance your development.</span></span><br />\n<br />\n<span style="color: rgb(0\, 0\, 0)\;">As a non-profit organization that works everyday for your business\, our fundraising events are crucial for the Chamber to continue it&rsquo\;s mission.</span><span class="OYPEnA text-decoration-none text-strikethrough-none white-space-prewrap" style="color: rgb(0\, 0\, 0)\;">&nbsp\;Last year\, the Chamber teed up</span><span style="color:#000000\;">&nbsp\;it&rsquo\;s first member golf outing in years with perfect weather &amp\; fun for all!<br />\n<br />\n<span class="OYPEnA text-decoration-none text-strikethrough-none">You and your employees work hard everyday.</span><span class="OYPEnA text-decoration-none text-strikethrough-none white-space-prewrap"> </span><span class="OYPEnA text-decoration-none text-strikethrough-none">And we recognize the importance of taking time to balance everything you do.</span><span class="OYPEnA text-decoration-none text-strikethrough-none white-space-prewrap"> </span><span class="OYPEnA text-decoration-none text-strikethrough-none">We hope you will join us for a day of fun\, networking and enjoyment for all with a 9 hole scramble format.&nbsp\;<br />\n<br />\nSchedule:<br />\n8am:&nbsp\; Check in begins<br />\n9am:&nbsp\; Shotgun start<br />\n12pm:&nbsp\; Awards lunch<br />\n<br />\n<strong>THANK YOU SPONSORS:<br />\nBELL &amp\; HUDSON INSURANCE AGENCY\, Awards Lunch Sponsor<br />\nJ. STOLAR INSURANCE AGENCY\, Awards Lunch Sponsor<br />\nNORTH BROOKFIELD SAVINGS BANK\, Awards Lunch Sponsor<br />\nSANDERSON MACLEOD\, Awards Lunch Sponsor<br />\nARCHITECTURAL INSIGHTS\, Tee Box Sponsor<br />\nBEHAVIORAL HEALTH NETWORK\, Tee Box Sponsor<br />\nBRETON ESTATES/RB ENTERPRISES\, Tee Box Sponsor<br />\nCEDARBOOK VILLAGE AT WARE\, Tee Box Sponsor<br />\nHOWE LUMBER\, Tee Box Sponsor<br />\nLINTON SEPTIC\,&nbsp\;Tee Box Sponsor<br />\nMICHAEL&#39\;S PARTY RENTALS\,&nbsp\;Tee Box Sponsor<br />\nMOULTON INSURANCE AGENCY\, Tee Box Sponsor<br />\nNOONAN ENERGY\, Tee Box Sponsor<br />\nPALMER DENTISTRY &amp\; IMPLANTS\, Tee Box Sponsor<br />\nQUABBIN WIRE &amp\; CABLE\, Tee&nbsp\;Box Sponsor</strong></span></span></p>\n
LOCATION:Hardwick Crossing Country Club 262 Lower Rd Gilbertville\, MA 01031
UID:e.628.7893
SEQUENCE:3
DTSTAMP:20260424T071203Z
URL:https://business.qhma.com/events/details/2025-qhma-golf-outing-sold-out-7893
END:VEVENT

END:VCALENDAR
