BEGIN:VCALENDAR
VERSION:2.0
PRODID:-//ChamberMaster//Event Calendar 2.0//EN
METHOD:PUBLISH
X-PUBLISHED-TTL:P3D
REFRESH-INTERVAL:P3D
CALSCALE:GREGORIAN
BEGIN:VEVENT
DTSTART:20240714T140000Z
DTEND:20240714T200000Z
X-MICROSOFT-CDO-ALLDAYEVENT:FALSE
SUMMARY:Christmas In July Weekend at Silver Bell Farm
DESCRIPTION:We're thrilled to invite you to join us for the fourth annual "Christmas in July" celebration on the farm! Get ready for a weekend of holiday cheer and festive outdoor activities\, including visits with Santa\, Barrel Train rides\, the Silver Bell Bounce House\, face painting\, and much more.\n\n \n\nFuel up with delicious food from the Concession Stand\, and cool down with specialty ice cream sundaes and frozen beverages from the SBF Ice Cream Truck. And don't forget to indulge in our famous cider donuts   they're the perfect treat for any time of year!\n\n \n\nSanta will be available throughout the day for visits and Story Times\, and we'll have special tractor-pulled wagon rides with Santa available by reservation.\n\n \n\nWe can't wait to share this magical\, holiday-themed weekend with you and your family!
X-ALT-DESC;FMTTYPE=text/html:<p style="box-sizing: inherit\; margin: 0px\; color: rgb(94\, 94\, 94)\; font-family: &quot\;Source Sans Pro&quot\;\, arial\, sans-serif\; font-size: 16px\;"><span style="box-sizing: inherit\;">We&#39\;re thrilled to invite you to join us for the fourth annual &quot\;Christmas in July&quot\; celebration on the farm! Get ready for a weekend of holiday cheer and festive outdoor activities\, including visits with Santa\, Barrel Train rides\, the Silver Bell Bounce House\, face painting\, and much more.</span></p>\n\n<p style="box-sizing: inherit\; margin: 0px\; color: rgb(94\, 94\, 94)\; font-family: &quot\;Source Sans Pro&quot\;\, arial\, sans-serif\; font-size: 16px\;">&nbsp\;</p>\n\n<p style="box-sizing: inherit\; margin: 0px\; color: rgb(94\, 94\, 94)\; font-family: &quot\;Source Sans Pro&quot\;\, arial\, sans-serif\; font-size: 16px\;"><span style="box-sizing: inherit\;">Fuel up with delicious food from the Concession Stand\, and cool down with specialty ice cream sundaes and frozen beverages from the SBF Ice Cream Truck. And don&#39\;t forget to indulge in our famous cider donuts &ndash\; they&#39\;re the perfect treat for any time of year!</span></p>\n\n<p style="box-sizing: inherit\; margin: 0px\; color: rgb(94\, 94\, 94)\; font-family: &quot\;Source Sans Pro&quot\;\, arial\, sans-serif\; font-size: 16px\;">&nbsp\;</p>\n\n<p style="box-sizing: inherit\; margin: 0px\; color: rgb(94\, 94\, 94)\; font-family: &quot\;Source Sans Pro&quot\;\, arial\, sans-serif\; font-size: 16px\;"><span style="box-sizing: inherit\;">Santa will be available throughout the day for visits and Story Times\, and we&#39\;ll have special tractor-pulled wagon rides with Santa available by reservation.</span></p>\n\n<p style="box-sizing: inherit\; margin: 0px\; color: rgb(94\, 94\, 94)\; font-family: &quot\;Source Sans Pro&quot\;\, arial\, sans-serif\; font-size: 16px\;">&nbsp\;</p>\n\n<p style="box-sizing: inherit\; margin: 0px\; color: rgb(94\, 94\, 94)\; font-family: &quot\;Source Sans Pro&quot\;\, arial\, sans-serif\; font-size: 16px\;"><span style="box-sizing: inherit\;">We can&#39\;t wait to share this magical\, holiday-themed weekend with you and your family!</span></p>\n
LOCATION:
UID:e.628.6840
SEQUENCE:3
DTSTAMP:20260422T083200Z
URL:https://business.qhma.com/events/details/christmas-in-july-weekend-at-silver-bell-farm-6840
END:VEVENT

END:VCALENDAR
