BEGIN:VCALENDAR
VERSION:2.0
PRODID:-//ChamberMaster//Event Calendar 2.0//EN
METHOD:PUBLISH
X-PUBLISHED-TTL:P3D
REFRESH-INTERVAL:P3D
CALSCALE:GREGORIAN
BEGIN:VEVENT
DTSTART:20260402T123000Z
DTEND:20260402T150000Z
X-MICROSOFT-CDO-ALLDAYEVENT:FALSE
SUMMARY:EANE HR & Compliance Training
DESCRIPTION:Leveraging the Power of a Multi-Generational Workforce\n\n\n\nHarness the unique strengths of every generation with our insightful training\, Leveraging the Power of a Multi-Gen Workforce. This engaging program helps participants gain insights into communication styles\, values\, and motivators that drive Baby Boomers\, Gen X\, Millennials\, and Gen Z. When organizations embrace generational diversity\, we can boost innovation\, retention\, and performance. Join us to learn how your workforce can bridge gaps and thrive together   because when generations unite\, greatness happens.\n\n\n\nLearning Objectives: Empty heading\n\nThe Shifting Demographic\n\nOur Top Business Problems\n\nStereotyping that hurts\n\nWe're more alike than I thought . . . And why\n\nLeveraging strengths on our teams so we thrive\n\nWho Should Attend:\n\nHR Professionals\, Managers\, Supervisors\, & Leads\n\n\n\nRegistration Fee 2026\n\nEANE MEMBERS | $240 Per person\n\n\n\nFUTURE MEMBERS | $280 Per person
X-ALT-DESC;FMTTYPE=text/html:<u><strong>Leveraging the Power of a Multi-Generational Workforce</strong></u><br />\n<br />\nHarness the unique strengths of every generation with our insightful training\, Leveraging the Power of a Multi-Gen Workforce. This engaging program helps participants gain insights into communication styles\, values\, and motivators that drive Baby Boomers\, Gen X\, Millennials\, and Gen Z. When organizations embrace generational diversity\, we can boost innovation\, retention\, and performance. Join us to learn how your workforce can bridge gaps and thrive together &ndash\; because when generations unite\, greatness happens.<br />\n<br />\nLearning Objectives: Empty heading<br />\nThe Shifting Demographic<br />\nOur Top Business Problems<br />\nStereotyping that hurts<br />\nWe&rsquo\;re more alike than I thought . . . And why<br />\nLeveraging strengths on our teams so we thrive<br />\nWho Should Attend:<br />\nHR Professionals\, Managers\, Supervisors\, &amp\; Leads<br />\n<br />\nRegistration Fee 2026<br />\nEANE MEMBERS | $240 Per person<br />\n<br />\nFUTURE MEMBERS | $280 Per person
LOCATION:Virtual
UID:e.628.8516
SEQUENCE:3
DTSTAMP:20260423T003125Z
URL:https://business.qhma.com/events/details/eane-hr-compliance-training-8516
END:VEVENT

END:VCALENDAR
