BEGIN:VCALENDAR
VERSION:2.0
PRODID:-//ChamberMaster//Event Calendar 2.0//EN
METHOD:PUBLISH
X-PUBLISHED-TTL:P3D
REFRESH-INTERVAL:P3D
CALSCALE:GREGORIAN
BEGIN:VEVENT
DTSTART:20260414T123000Z
DTEND:20260414T160000Z
X-MICROSOFT-CDO-ALLDAYEVENT:FALSE
SUMMARY:EANE Leadership Training - Agawam
DESCRIPTION:COMMUNICATION SKILLS FOR LEADERS\n\n\n\nGiving clear directions\, practicing active listening skills and using non-defensive communication techniques improves leadership effectiveness. Through interactive discussions and use of real-life situations\, you'll practice communication strategies and when to use them effectively.\n\n\n\nAgawam Training Center\n\n\n\nRegistration for this class will close at 12 pm two business days before the program begins.\n\n\n\nEffective leaders communicate clearly\, listen actively\, and use non-defensive techniques to foster understanding and collaboration. In this interactive session\, you'll explore real-life scenarios and practice using key communication strategies in the right context. You'll learn to apply four core skills speaking in specifics\, asking for input\, listening and responding\, and using reinforcement techniques. By the end\, you'll create a personalized action plan to implement these skills on the job.\n\n\n\nWho Should Attend\n\nFront-line supervisors\, managers and professionals in any industry\n\n\n\nLearning Objectives\n\nLearn and apply four core communication skills: Speak in Specifics\, Ask for Input\, Listen and Respond\, and Use Reinforcement Techniques.\n\nPractice using these skills through real-life scenarios and interactive exercises.\n\nDevelop a personalized action plan to apply effective communication techniques on the job.\n\n\n\nRegistration Fee   2026\n\n\n\nEANE MEMBERS | $240 Per person\n\n\n\nFUTURE MEMBERS | $280 Per person
X-ALT-DESC;FMTTYPE=text/html:COMMUNICATION SKILLS FOR LEADERS<br />\n<br />\nGiving clear directions\, practicing active listening skills and using non-defensive communication techniques improves leadership effectiveness. Through interactive discussions and use of real-life situations\, you&rsquo\;ll practice communication strategies and when to use them effectively.<br />\n<br />\nAgawam Training Center<br />\n<br />\nRegistration for this class will close at 12 pm two business days before the program begins.<br />\n<br />\nEffective leaders communicate clearly\, listen actively\, and use non-defensive techniques to foster understanding and collaboration. In this interactive session\, you&rsquo\;ll explore real-life scenarios and practice using key communication strategies in the right context. You&rsquo\;ll learn to apply four core skills&mdash\;speaking in specifics\, asking for input\, listening and responding\, and using reinforcement techniques. By the end\, you&rsquo\;ll create a personalized action plan to implement these skills on the job.<br />\n<br />\nWho Should Attend<br />\nFront-line supervisors\, managers and professionals in any industry<br />\n<br />\nLearning Objectives<br />\nLearn and apply four core communication skills: Speak in Specifics\, Ask for Input\, Listen and Respond\, and Use Reinforcement Techniques.<br />\nPractice using these skills through real-life scenarios and interactive exercises.<br />\nDevelop a personalized action plan to apply effective communication techniques on the job.<br />\n<br />\nRegistration Fee &ndash\; 2026<br />\n<br />\nEANE MEMBERS | $240 Per person<br />\n<br />\nFUTURE MEMBERS | $280 Per person
LOCATION:EANE Agawam MA Training Location 67 Hunt Street\, Agawam\, MA 01001
UID:e.628.8497
SEQUENCE:3
DTSTAMP:20260423T001015Z
URL:https://business.qhma.com/events/details/eane-leadership-training-agawam-04-14-2026-8497
END:VEVENT

END:VCALENDAR
