BEGIN:VCALENDAR
VERSION:2.0
PRODID:-//ChamberMaster//Event Calendar 2.0//EN
METHOD:PUBLISH
X-PUBLISHED-TTL:P3D
REFRESH-INTERVAL:P3D
CALSCALE:GREGORIAN
BEGIN:VEVENT
DTSTART:20260414T123000Z
DTEND:20260414T190000Z
X-MICROSOFT-CDO-ALLDAYEVENT:FALSE
SUMMARY:EANE Technology Training
DESCRIPTION:MICROSOFT OFFICE EXCEL | LEVEL 1\n\n\n\nExcel  offers increased functionality over the previous versions. Master the new features in this six-hour workshop\, Level 1 workshop.  Explore the new interface and navigation and learn how to create\, modify and format worksheets\; manipulate data\; and perform calculations.  Later you'll tackle the development of a workbook from multiple worksheets\, including how to reposition worksheets in a workbook while maintaining formatting.  Finally\, you'll learn how to customize the layout and master the new print function.\n\n\n\nFee includes all training materials and 6 months of post-training phone or email support.   \n\n\n\nWho Should Attend\n\nAll employees who would benefit from understanding how to leverage the basic functions of Excel .\n\n\n\nLearning Objectives\n\nCreate a Basic Excel  Worksheet\n\nPerform Calculations in an Excel   Worksheet\n\nModify an Excel  Worksheet\n\nFormat an Excel  Worksheet\; Print Excel  Workbooks\n\nManage an Excel  Workbook\n\n\n\nRegistration Fee 2026\n\nEANE MEMBERS | $420 per person\n\n\n\nFUTURE MEMBERS | $495 per person
X-ALT-DESC;FMTTYPE=text/html:MICROSOFT OFFICE EXCEL | LEVEL 1<br />\n<br />\nExcel&reg\; offers increased functionality over the previous versions. Master the new features in this six-hour workshop\, Level 1 workshop.&nbsp\; Explore the new interface and navigation and learn how to create\, modify and format worksheets\; manipulate data\; and perform calculations.&nbsp\; Later you&rsquo\;ll tackle the development of a workbook from multiple worksheets\, including how to reposition worksheets in a workbook while maintaining formatting.&nbsp\; Finally\, you&rsquo\;ll learn how to customize the layout and master the new print function.<br />\n<br />\nFee includes all training materials and 6 months of post-training phone or email support.&nbsp\; &nbsp\;<br />\n<br />\nWho Should Attend<br />\nAll employees who would benefit from understanding how to leverage the basic functions of Excel&reg\;.<br />\n<br />\nLearning Objectives<br />\nCreate a Basic Excel&reg\; Worksheet<br />\nPerform Calculations in an Excel&reg\;&nbsp\; Worksheet<br />\nModify an Excel&reg\; Worksheet<br />\nFormat an Excel&reg\; Worksheet\; Print Excel&reg\; Workbooks<br />\nManage an Excel&reg\; Workbook<br />\n<br />\nRegistration Fee 2026<br />\nEANE MEMBERS | $420 per person<br />\n<br />\nFUTURE MEMBERS | $495 per person<br />\n&nbsp\;
LOCATION:Virtual
UID:e.628.8524
SEQUENCE:3
DTSTAMP:20260423T000432Z
URL:https://business.qhma.com/events/details/eane-technology-training-8524
END:VEVENT

END:VCALENDAR
