BEGIN:VCALENDAR
VERSION:2.0
PRODID:-//ChamberMaster//Event Calendar 2.0//EN
METHOD:PUBLISH
X-PUBLISHED-TTL:P3D
REFRESH-INTERVAL:P3D
CALSCALE:GREGORIAN
BEGIN:VEVENT
DTSTART:20240823T200000Z
DTEND:20240824T000000Z
X-MICROSOFT-CDO-ALLDAYEVENT:FALSE
SUMMARY:Party On The Patio
DESCRIPTION:Don't miss the Monson Free Library's 6th Annual Party On The Patio celebration event featuring The Beer Guy with 14 taps\, North Elm Butcher Block Food Truck\, Raffles to benefit the Library and live music by The Willies!  Family-Friendly & Everyone is Welcome!!
X-ALT-DESC;FMTTYPE=text/html:Don&#39\;t miss the Monson Free Library&#39\;s 6th Annual Party On The Patio celebration event featuring The Beer Guy with 14 taps\, North Elm Butcher Block Food Truck\, Raffles to benefit the Library and live music by The Willies!&nbsp\; Family-Friendly &amp\; Everyone is Welcome!!
LOCATION:Monson Free Library 2 High St Monson\, MA 01057
UID:e.628.6952
SEQUENCE:3
DTSTAMP:20260423T224245Z
URL:https://business.qhma.com/events/details/party-on-the-patio-6952
END:VEVENT

END:VCALENDAR
