BEGIN:VCALENDAR
VERSION:2.0
PRODID:-//ChamberMaster//Event Calendar 2.0//EN
METHOD:PUBLISH
X-PUBLISHED-TTL:P3D
REFRESH-INTERVAL:P3D
CALSCALE:GREGORIAN
BEGIN:VEVENT
DTSTART:20260421T220000Z
DTEND:20260421T230000Z
X-MICROSOFT-CDO-ALLDAYEVENT:FALSE
SUMMARY:Recreate Your Future with QVCDC/BAC
DESCRIPTION:Lindsay Aucoin & James DaRosa of the QVCDC will present a workshop designed to be practical\, empowering\, and immediately useful for small business owners at any stage.\n\n	business loans and readiness\n	how to start a business\n	how to write a business plan\n	financing offered\n	access to computer program traning
X-ALT-DESC;FMTTYPE=text/html:Lindsay Aucoin &amp\; James DaRosa of the QVCDC will present a workshop designed to be practical\, empowering\, and immediately useful for small business owners at any stage.\n<ul>\n	<li>business loans and readiness</li>\n	<li>how to start a business</li>\n	<li>how to write a business plan</li>\n	<li>financing offered</li>\n	<li>access to computer program traning</li>\n</ul>\n
LOCATION:Gilbertville Public Library 259 Main St Gilbertville\, MA 01301
UID:e.628.8714
SEQUENCE:3
DTSTAMP:20260421T182739Z
URL:https://business.qhma.com/events/details/recreate-your-future-with-qvcdc-bac-8714
END:VEVENT

END:VCALENDAR
