BEGIN:VCALENDAR
VERSION:2.0
PRODID:-//ChamberMaster//Event Calendar 2.0//EN
METHOD:PUBLISH
X-PUBLISHED-TTL:P3D
REFRESH-INTERVAL:P3D
CALSCALE:GREGORIAN
BEGIN:VEVENT
DTSTART:20260429T150000Z
DTEND:20260429T161500Z
X-MICROSOFT-CDO-ALLDAYEVENT:FALSE
SUMMARY:SCORE Free Webinar - Starting A Non-Profit in Massachusetts
DESCRIPTION:Event Details\n\n\n\nStarting a Nonprofit in Massachusetts\n\n\n\nWhile starting a nonprofit comes with challenges\, the rewards can be profound and fulfilling\, making it a worthwhile pursuit!\n\n\n\nLearn the steps needed for developing a non-profit organization in Massachusetts\n\n\n\nDate and Time\n\n4/29/2026 11:00 AM - 4/29/2026 12:15 PM  (America/New_York)\n\n\n\nEvent Questions?\n\nIf you have any questions about this event\, please contact:\n\nLinda Foss\n\nscoresemass@scorevolunteer.org
X-ALT-DESC;FMTTYPE=text/html:<p style="color: rgb(70\, 70\, 72)\; font-family: Lato\, sans-serif\; font-size: 16px\; margin: 0px\;">Event Details<br />\n<br />\nStarting a Nonprofit in Massachusetts<br />\n<br />\nWhile starting a nonprofit comes with challenges\, the rewards can be profound and fulfilling\, making it a worthwhile pursuit!<br />\n<br />\nLearn the steps needed for developing a non-profit organization in Massachusetts<br />\n<br />\nDate and Time<br />\n4/29/2026 11:00 AM - 4/29/2026 12:15 PM&nbsp\; (America/New_York)<br />\n<br />\nEvent Questions?<br />\nIf you have any questions about this event\, please contact:<br />\nLinda Foss<br />\nscoresemass@scorevolunteer.org<br />\n&nbsp\;</p>\n
LOCATION:
UID:e.628.8715
SEQUENCE:3
DTSTAMP:20260422T213400Z
URL:https://business.qhma.com/events/details/score-free-webinar-starting-a-non-profit-in-massachusetts-8715
END:VEVENT

END:VCALENDAR
