BEGIN:VCALENDAR
VERSION:2.0
PRODID:-//ChamberMaster//Event Calendar 2.0//EN
METHOD:PUBLISH
X-PUBLISHED-TTL:P3D
REFRESH-INTERVAL:P3D
CALSCALE:GREGORIAN
BEGIN:VEVENT
DTSTART:20241107T160000Z
DTEND:20241107T170000Z
X-MICROSOFT-CDO-ALLDAYEVENT:FALSE
SUMMARY:SCORE - Live Webinar - Bookkeeping for Small Business
DESCRIPTION:Are you ready for year end?  What about next year?. Come hear about common mistakes new business owners make\, how to use bookkeeping as a goal-tracking technique\, and more.
X-ALT-DESC;FMTTYPE=text/html:<div class="heading-container   " style="box-sizing: inherit\; display: inline-flex\; flex-direction: column\; gap: 1rem\;">\n<h1 class="h3-large semibold " style="letter-spacing: -1px\; margin: 0px\; font-family: var(--ff-display)\; font-weight: var(--fw-semibold)\; color: var(--score-heading-font-color\, var(--brand-background-hover))\; font-size: var(--fs-h3-large)\; line-height: var(--lh-h3-large)\; box-sizing: inherit\;">Are you ready for year end?&nbsp\; What about next year?. Come hear about common mistakes new business owners make\, how to use bookkeeping as a goal-tracking technique\, and more.</h1>\n</div>\n
LOCATION:
UID:e.628.7012
SEQUENCE:3
DTSTAMP:20260420T104906Z
URL:https://business.qhma.com/events/details/score-live-webinar-bookkeeping-for-small-business-7012
END:VEVENT

END:VCALENDAR
