BEGIN:VCALENDAR
VERSION:2.0
PRODID:-//ChamberMaster//Event Calendar 2.0//EN
METHOD:PUBLISH
X-PUBLISHED-TTL:P3D
REFRESH-INTERVAL:P3D
CALSCALE:GREGORIAN
BEGIN:VEVENT
DTSTART:20241204T140000Z
DTEND:20241204T153000Z
X-MICROSOFT-CDO-ALLDAYEVENT:FALSE
SUMMARY:SCORE - Live Webinar - Creating an Effective Social Media Strategy
DESCRIPTION:Social Media is one of the most popular ways to attract and retain customers.   In this webinar\, we will discuss how to create and refine a social media strategy\, including networks and target audiences and brainstorm ideas for engaging content.
X-ALT-DESC;FMTTYPE=text/html:<div class="heading-container   " style="box-sizing: inherit\; display: inline-flex\; flex-direction: column\; gap: 1rem\;">\n<p style="box-sizing: border-box\; border-width: 0px\; border-style: solid\; border-color: currentcolor\; margin: 0px\; font-family: var(--ff-body)\; font-size: var(--fs-xl)\; line-height: var(--lh-xl)\; color: var(--brand-secondaryGraphite)\; margin-block-start: var(--wysiwyg-gap-size)\; margin-block-end: var(--wysiwyg-gap-size)\;">Social Media is one of the most popular ways to attract and retain customers.&nbsp\; &nbsp\;In this webinar\, we will discuss how to create and refine a social media strategy\, including networks and target audiences and brainstorm ideas for engaging content.</p>\n</div>\n
LOCATION:
UID:e.628.7034
SEQUENCE:3
DTSTAMP:20260423T191939Z
URL:https://business.qhma.com/events/details/score-live-webinar-creating-an-effective-social-media-strategy-7034
END:VEVENT

END:VCALENDAR
