BEGIN:VCALENDAR
VERSION:2.0
PRODID:-//ChamberMaster//Event Calendar 2.0//EN
METHOD:PUBLISH
X-PUBLISHED-TTL:P3D
REFRESH-INTERVAL:P3D
CALSCALE:GREGORIAN
BEGIN:VEVENT
DTSTART:20250313T150000Z
DTEND:20250313T160000Z
X-MICROSOFT-CDO-ALLDAYEVENT:FALSE
SUMMARY:SCORE - Live Webinar - Mastering Time for Operational Excellence
DESCRIPTION:Unlock the Secret to Streamlined Operations and Enhanced Efficiency\n\n \n\nAttend the SCORE SE Mass Webinar Mastering Time for Operational Excellence On Mar 13 from 11am -12pm\n\n \n\nIn this webinar Nicole Bernardo will guide you through the following six essential areas of your business that\, when streamlined\, can dramatically improve efficiency and productivity\, no matter what the stage of your business:\n\n \n\n-Business Strategy\n\n-Operations Management\n\n-Project Management\n\n-Admin Support\n\n-Marketing Management\n\n-Sales Management\n\n \n\nEach Webinar Participant Will Receive Nicole's Complimentary "Operations Plan" Template\n\n \n\nNicole Bernardo is a dynamic business strategist and operations expert with over 25 years of experience driving success in multiple industries\, including janitorial distribution\, kitchen and bath cabinetry\, and entrepreneurship. As the founder and CEO of Cornerstone Virtual Partners\, Nicole specializes in business management\, project implementation\, and strategic planning\, offering fractional COO services to help businesses streamline operations and scale effectively. Known for her collaborative approach\, Nicole excels in brainstorming sessions and building customized solutions that align with her clients' unique goals. A passionate advocate for efficiency and growth\, she is also an engaging speaker\, sharing insights on leadership\, time management\, and business strategy.
X-ALT-DESC;FMTTYPE=text/html:<p style="box-sizing: border-box\; border-width: 0px\; border-style: solid\; border-color: currentcolor\; margin: 0px\; font-family: var(--ff-body)\; font-size: var(--fs-xl)\; line-height: var(--lh-xl)\; color: var(--brand-secondaryGraphite)\; margin-block-start: var(--wysiwyg-gap-size)\; margin-block-end: var(--wysiwyg-gap-size)\;"><span style="box-sizing: border-box\; border-width: 0px\; border-style: solid\; border-color: currentcolor\; font-weight: bolder\; margin: 0px\; font-size: var(--fs-xl)\; line-height: var(--lh-xl)\; color: var(--brand-secondaryGraphite)\;"><u style="box-sizing: border-box\; border-width: 0px\; border-style: solid\; border-color: currentcolor\;">Unlock the Secret to Streamlined Operations and Enhanced Efficiency</u></span></p>\n\n<p style="box-sizing: border-box\; border-width: 0px\; border-style: solid\; border-color: currentcolor\; margin: 0px\; font-family: var(--ff-body)\; font-size: var(--fs-xl)\; line-height: var(--lh-xl)\; color: var(--brand-secondaryGraphite)\; margin-block-start: var(--wysiwyg-gap-size)\; margin-block-end: var(--wysiwyg-gap-size)\;">&nbsp\;</p>\n\n<p style="box-sizing: border-box\; border-width: 0px\; border-style: solid\; border-color: currentcolor\; margin: 0px\; font-family: var(--ff-body)\; font-size: var(--fs-xl)\; line-height: var(--lh-xl)\; color: var(--brand-secondaryGraphite)\; margin-block-start: var(--wysiwyg-gap-size)\; margin-block-end: var(--wysiwyg-gap-size)\;">Attend the SCORE SE Mass Webinar&nbsp\;<span style="box-sizing: border-box\; border-width: 0px\; border-style: solid\; border-color: currentcolor\; font-weight: bolder\; margin: 0px\; font-size: var(--fs-xl)\; line-height: var(--lh-xl)\; color: var(--brand-secondaryGraphite)\;"><em style="box-sizing: border-box\; border-width: 0px\; border-style: solid\; border-color: currentcolor\;">Mastering Time for Operational Excellence&nbsp\;</em></span>On Mar 13 from 11am -12pm</p>\n\n<p style="box-sizing: border-box\; border-width: 0px\; border-style: solid\; border-color: currentcolor\; margin: 0px\; font-family: var(--ff-body)\; font-size: var(--fs-xl)\; line-height: var(--lh-xl)\; color: var(--brand-secondaryGraphite)\; margin-block-start: var(--wysiwyg-gap-size)\; margin-block-end: var(--wysiwyg-gap-size)\;">&nbsp\;</p>\n\n<p style="box-sizing: border-box\; border-width: 0px\; border-style: solid\; border-color: currentcolor\; margin: 0px\; font-family: var(--ff-body)\; font-size: var(--fs-xl)\; line-height: var(--lh-xl)\; color: var(--brand-secondaryGraphite)\; margin-block-start: var(--wysiwyg-gap-size)\; margin-block-end: var(--wysiwyg-gap-size)\;">In this webinar Nicole Bernardo will guide you through the following six essential areas of your business that\, when streamlined\, can dramatically improve efficiency and productivity\, no matter what the stage of your business:</p>\n\n<p style="box-sizing: border-box\; border-width: 0px\; border-style: solid\; border-color: currentcolor\; margin: 0px\; font-family: var(--ff-body)\; font-size: var(--fs-xl)\; line-height: var(--lh-xl)\; color: var(--brand-secondaryGraphite)\; margin-block-start: var(--wysiwyg-gap-size)\; margin-block-end: var(--wysiwyg-gap-size)\;">&nbsp\;</p>\n\n<p style="box-sizing: border-box\; border-width: 0px\; border-style: solid\; border-color: currentcolor\; margin: 0px\; font-family: var(--ff-body)\; font-size: var(--fs-xl)\; line-height: var(--lh-xl)\; color: var(--brand-secondaryGraphite)\; margin-block-start: var(--wysiwyg-gap-size)\; margin-block-end: var(--wysiwyg-gap-size)\;">-Business Strategy</p>\n\n<p style="box-sizing: border-box\; border-width: 0px\; border-style: solid\; border-color: currentcolor\; margin: 0px\; font-family: var(--ff-body)\; font-size: var(--fs-xl)\; line-height: var(--lh-xl)\; color: var(--brand-secondaryGraphite)\; margin-block-start: var(--wysiwyg-gap-size)\; margin-block-end: var(--wysiwyg-gap-size)\;">-Operations Management</p>\n\n<p style="box-sizing: border-box\; border-width: 0px\; border-style: solid\; border-color: currentcolor\; margin: 0px\; font-family: var(--ff-body)\; font-size: var(--fs-xl)\; line-height: var(--lh-xl)\; color: var(--brand-secondaryGraphite)\; margin-block-start: var(--wysiwyg-gap-size)\; margin-block-end: var(--wysiwyg-gap-size)\;">-Project Management</p>\n\n<p style="box-sizing: border-box\; border-width: 0px\; border-style: solid\; border-color: currentcolor\; margin: 0px\; font-family: var(--ff-body)\; font-size: var(--fs-xl)\; line-height: var(--lh-xl)\; color: var(--brand-secondaryGraphite)\; margin-block-start: var(--wysiwyg-gap-size)\; margin-block-end: var(--wysiwyg-gap-size)\;">-Admin Support</p>\n\n<p style="box-sizing: border-box\; border-width: 0px\; border-style: solid\; border-color: currentcolor\; margin: 0px\; font-family: var(--ff-body)\; font-size: var(--fs-xl)\; line-height: var(--lh-xl)\; color: var(--brand-secondaryGraphite)\; margin-block-start: var(--wysiwyg-gap-size)\; margin-block-end: var(--wysiwyg-gap-size)\;">-Marketing Management</p>\n\n<p style="box-sizing: border-box\; border-width: 0px\; border-style: solid\; border-color: currentcolor\; margin: 0px\; font-family: var(--ff-body)\; font-size: var(--fs-xl)\; line-height: var(--lh-xl)\; color: var(--brand-secondaryGraphite)\; margin-block-start: var(--wysiwyg-gap-size)\; margin-block-end: var(--wysiwyg-gap-size)\;">-Sales Management</p>\n\n<p style="box-sizing: border-box\; border-width: 0px\; border-style: solid\; border-color: currentcolor\; margin: 0px\; font-family: var(--ff-body)\; font-size: var(--fs-xl)\; line-height: var(--lh-xl)\; color: var(--brand-secondaryGraphite)\; margin-block-start: var(--wysiwyg-gap-size)\; margin-block-end: var(--wysiwyg-gap-size)\;">&nbsp\;</p>\n\n<p style="box-sizing: border-box\; border-width: 0px\; border-style: solid\; border-color: currentcolor\; margin: 0px\; font-family: var(--ff-body)\; font-size: var(--fs-xl)\; line-height: var(--lh-xl)\; color: var(--brand-secondaryGraphite)\; margin-block-start: var(--wysiwyg-gap-size)\; margin-block-end: var(--wysiwyg-gap-size)\;"><span style="box-sizing: border-box\; border-width: 0px\; border-style: solid\; border-color: currentcolor\; font-weight: bolder\; margin: 0px\; font-size: var(--fs-xl)\; line-height: var(--lh-xl)\; color: var(--brand-secondaryGraphite)\;"><em style="box-sizing: border-box\; border-width: 0px\; border-style: solid\; border-color: currentcolor\;">Each Webinar Participant Will Receive Nicole&rsquo\;s Complimentary &ldquo\;Operations Plan&rdquo\; Template</em></span></p>\n\n<p style="box-sizing: border-box\; border-width: 0px\; border-style: solid\; border-color: currentcolor\; margin: 0px\; font-family: var(--ff-body)\; font-size: var(--fs-xl)\; line-height: var(--lh-xl)\; color: var(--brand-secondaryGraphite)\; margin-block-start: var(--wysiwyg-gap-size)\; margin-block-end: var(--wysiwyg-gap-size)\;">&nbsp\;</p>\n\n<p style="box-sizing: border-box\; border-width: 0px\; border-style: solid\; border-color: currentcolor\; margin: 0px\; font-family: var(--ff-body)\; font-size: var(--fs-xl)\; line-height: var(--lh-xl)\; color: var(--brand-secondaryGraphite)\; margin-block-start: var(--wysiwyg-gap-size)\; margin-block-end: var(--wysiwyg-gap-size)\;">Nicole Bernardo is a dynamic business strategist and operations expert with over 25 years of experience driving success in multiple industries\, including janitorial distribution\, kitchen and bath cabinetry\, and entrepreneurship. As the founder and CEO of Cornerstone Virtual Partners\, Nicole specializes in business management\, project implementation\, and strategic planning\, offering fractional COO services to help businesses streamline operations and scale effectively. Known for her collaborative approach\, Nicole excels in brainstorming sessions and building customized solutions that align with her clients&rsquo\; unique goals. A passionate advocate for efficiency and growth\, she is also an engaging speaker\, sharing insights on leadership\, time management\, and business strategy.</p>\n
LOCATION:
UID:e.628.7723
SEQUENCE:3
DTSTAMP:20260421T003037Z
URL:https://business.qhma.com/events/details/score-live-webinar-mastering-time-for-operational-excellence-7723
END:VEVENT

END:VCALENDAR
