BEGIN:VCALENDAR
VERSION:2.0
PRODID:-//ChamberMaster//Event Calendar 2.0//EN
METHOD:PUBLISH
X-PUBLISHED-TTL:P3D
REFRESH-INTERVAL:P3D
CALSCALE:GREGORIAN
BEGIN:VEVENT
DTSTART;VALUE=DATE:20240925
DTEND;VALUE=DATE:20240926
TRANSP:TRANSPARENT
X-MICROSOFT-CDO-ALLDAYEVENT:TRUE
SUMMARY:Senator Ryan Fattman Staff Office Hours
DESCRIPTION:Senator Ryan Fattman (MA-R)\, representing the Worcester & Hampden Districts which include the QHMA towns of Brimfield\, Holland\, Monson and Wales is conducting Staff Office Hours for residents and citizens to meet with District Director\, Amanda Hellyar in each town during the following dates\, times and locations.\n\n\n\nWednesday\, September 25\, 2024\n\n10am-11am at the Town of Brimfield Senior Center\n\n11:30am-12:30am at the Town of Wales Senior Center\n\n1pm-2pm at the Town of Holland Town Hall\n\n2:30pm-3:30pm at the Monson Free Library\n\n\n\nWednesday\, October 23\, 2024\n\n10am-11am at the Town of Brimfield Senior Center\n\n11:30am-12:30am at the Town of Wales Senior Center\n\n1pm-2pm at the Town of Holland Town Hall\n\n2:30pm-3:30pm at the Monson Free Library\n\n\n\nWednesday\, November 27\, 2024\n\n10am-11am at the Town of Brimfield Senior Center\n\n11:30am-12:30am at the Town of Wales Senior Center\n\n1pm-2pm at the Town of Holland Town Hall\n\n2:30pm-3:30pm at the Monson Free Library\n\n\n\nThe purpose of staff office hours is to give constituents a chance to seek guidance on issues related to a state agency\, find our about upcoming events\, and learn more about legislative affairs on Beacon Hill.
X-ALT-DESC;FMTTYPE=text/html:Senator Ryan Fattman (MA-R)\, representing the Worcester &amp\; Hampden Districts which include the QHMA towns of Brimfield\, Holland\, Monson and Wales is conducting Staff Office Hours for residents and citizens to meet with District Director\, Amanda Hellyar in each town during the following dates\, times and locations.<br />\n<br />\n<u><strong>Wednesday\, September 25\, 2024</strong></u><br />\n10am-11am at the Town of Brimfield Senior Center<br />\n11:30am-12:30am at the Town of Wales Senior Center<br />\n1pm-2pm at the Town of Holland Town Hall<br />\n2:30pm-3:30pm at the Monson Free Library<br />\n<br />\n<u><strong>Wednesday\, October 23\, 2024</strong></u><br />\n10am-11am at the Town of Brimfield Senior Center<br />\n11:30am-12:30am at the Town of Wales Senior Center<br />\n1pm-2pm at the Town of Holland Town Hall<br />\n2:30pm-3:30pm at the Monson Free Library<br />\n<br />\n<u><strong>Wednesday\, November 27\, 2024</strong></u><br />\n10am-11am at the Town of Brimfield Senior Center<br />\n11:30am-12:30am at the Town of Wales Senior Center<br />\n1pm-2pm at the Town of Holland Town Hall<br />\n2:30pm-3:30pm at the Monson Free Library<br />\n<br />\nThe purpose of staff office hours is to give constituents a chance to seek guidance on issues related to a state agency\, find our about upcoming events\, and learn more about legislative affairs on Beacon Hill.
LOCATION:
UID:e.628.6960
SEQUENCE:3
DTSTAMP:20260420T075108Z
URL:https://business.qhma.com/events/details/senator-ryan-fattman-staff-office-hours-6960
END:VEVENT

END:VCALENDAR
