BEGIN:VCALENDAR
VERSION:2.0
PRODID:-//ChamberMaster//Event Calendar 2.0//EN
METHOD:PUBLISH
X-PUBLISHED-TTL:P3D
REFRESH-INTERVAL:P3D
CALSCALE:GREGORIAN
BEGIN:VEVENT
DTSTART:20260501T220000Z
DTEND:20260502T000000Z
X-MICROSOFT-CDO-ALLDAYEVENT:FALSE
SUMMARY:Star Wars Trivia Night
DESCRIPTION:Star Wars Trivia Night\n\n\n\nFriday\, May 1st 6pm\n\n\n\nJoin us for a galaxy-far-far-away evening at Hardwick Winery with our Star Wars Trivia Night! Test your knowledge of iconic characters\, epic battles\, and unforgettable quotes. Whether you're a Jedi Master or just beginning your journey\, this fun and interactive night is perfect for fans of all levels.
X-ALT-DESC;FMTTYPE=text/html:Star Wars Trivia Night<br />\n<br />\nFriday\, May 1st 6pm<br />\n<br />\nJoin us for a galaxy-far-far-away evening at Hardwick Winery with our Star Wars Trivia Night! Test your knowledge of iconic characters\, epic battles\, and unforgettable quotes. Whether you&rsquo\;re a Jedi Master or just beginning your journey\, this fun and interactive night is perfect for fans of all levels.
LOCATION:Hardwick Vineyard & Winery 3305 Greenwich Rd Hardwick\, MA 01082
UID:e.628.8716
SEQUENCE:3
DTSTAMP:20260422T213107Z
URL:https://business.qhma.com/events/details/star-wars-trivia-night-8716
END:VEVENT

END:VCALENDAR
