BEGIN:VCALENDAR
VERSION:2.0
PRODID:-//ChamberMaster//Event Calendar 2.0//EN
METHOD:PUBLISH
X-PUBLISHED-TTL:P3D
REFRESH-INTERVAL:P3D
CALSCALE:GREGORIAN
BEGIN:VEVENT
DTSTART:20230617T123000Z
DTEND:20230617T190000Z
X-MICROSOFT-CDO-ALLDAYEVENT:FALSE
SUMMARY:Ware Town Wide Tag Sale
DESCRIPTION:Saturday\, June 15th 8:30 am to 3:00 pm Town Wide Tag Sale--Tag sales all around the town of Ware. Free maps at the Ware Center Meeting House and Museum\, RT.9 in Ware the day of the sale. warecentermeetinghouse.org
X-ALT-DESC;FMTTYPE=text/html:<strong><span style="color:#222222"><span style="font-family:arial narrow\,sans-serif"><span style="font-size:12.0pt">Saturday\,&nbsp\;June 15th&nbsp\;8:30 am to 3:00 pm&nbsp\;<em>Town Wide&nbsp\;Tag Sale</em>--</span></span></span></strong><span style="color:#222222"><span style="font-family:arial narrow\,sans-serif"><span style="font-size:12.0pt">Tag&nbsp\;sales all around the town of Ware. Free maps at the Ware Center Meeting House and Museum\, RT.9 in Ware the day of the sale. warecentermeetinghouse.org</span></span></span>
LOCATION:Ware Center Meeting House 295 Belchertown Rd in Ware
UID:e.628.6359
SEQUENCE:3
DTSTAMP:20260420T085607Z
URL:https://business.qhma.com/events/details/ware-town-wide-tag-sale-06-17-2023-6359
END:VEVENT

END:VCALENDAR
